BEGIN:VCALENDAR
VERSION:2.0
PRODID:-//ChamberMaster//Event Calendar 2.0//EN
METHOD:PUBLISH
X-PUBLISHED-TTL:P3D
REFRESH-INTERVAL:P3D
CALSCALE:GREGORIAN
BEGIN:VEVENT
DTSTART:20230727T230000Z
DTEND:20230728T030000Z
X-MICROSOFT-CDO-ALLDAYEVENT:FALSE
SUMMARY:2023 Summit Awards
DESCRIPTION:Join us to celebrate the best of the San Antonio home building industry at the Summit Awards.\n\n\n\nThe Summit Awards were established in 1985 by the Greater San Antonio Builders Association in recognition of sales and marketing excellence. The prestigious Summit Award is given to builders\, remodelers\, developers\, and associates who have achieved excellence in the home building industry each year.\n\n\n\nEntries are due by March 31st\, 2023. Details at www.sabuilders.com/summit-awards
X-ALT-DESC;FMTTYPE=text/html:<span style="font-size:16px\;">Join us to celebrate the best of the San Antonio home building industry at the Summit Awards.<br />\n<br />\n<span style="letter-spacing:-.05pt\;">T</span>he Summit <span style="letter-spacing:-.3pt\;">A</span><span style="letter-spacing:-.15pt\;">w</span>a<span style="letter-spacing:-.2pt\;">r</span>ds&nbsp\;<span style="letter-spacing:-.2pt\;">w</span>e<span style="letter-spacing:-.2pt\;">r</span>e e<span style="letter-spacing:-.05pt\;">s</span>tablished in 1985 <span style="letter-spacing:-.2pt\;">b</span>y&nbsp\;the G<span style="letter-spacing:-.25pt\;">r</span>e<span style="letter-spacing:-.05pt\;">a</span><span style="letter-spacing:-.15pt\;">t</span>er <span style="letter-spacing:.05pt\;">S</span>an A<span style="letter-spacing:-.05pt\;">n</span><span style="letter-spacing:-.1pt\;">t</span>onio Builde<span style="letter-spacing:-.1pt\;">r</span>s A<span style="letter-spacing:-.05pt\;">s</span>soci<span style="letter-spacing:-.05pt\;">a</span>tion in <span style="letter-spacing:-.2pt\;">r</span>e<span style="letter-spacing:-.1pt\;">c</span>ognition of sales and mar<span style="letter-spacing:-.2pt\;">k</span><span style="letter-spacing:-.05pt\;">e</span>ting&nbsp\;<span style="letter-spacing:-.25pt\;">ex</span><span style="letter-spacing:-.1pt\;">c</span>ellen<span style="letter-spacing:-.1pt\;">ce</span>. <span style="letter-spacing:-.1pt\;">T</span>he p<span style="letter-spacing:-.2pt\;">r</span>e<span style="letter-spacing:-.1pt\;">s</span>tigious Summit <span style="letter-spacing:-.3pt\;">A</span><span style="letter-spacing:-.15pt\;">w</span>a<span style="letter-spacing:-.2pt\;">r</span>d&nbsp\;is gi<span style="letter-spacing:-.25pt\;">v</span>en <span style="letter-spacing:-.1pt\;">t</span>o builde<span style="letter-spacing:-.1pt\;">r</span>s\, <span style="letter-spacing:-.2pt\;">r</span>emodele<span style="letter-spacing:-.1pt\;">r</span>s\, d<span style="letter-spacing:-.2pt\;">e</span><span style="letter-spacing:-.25pt\;">v</span>elope<span style="letter-spacing:-.1pt\;">r</span>s\, and a<span style="letter-spacing:-.05pt\;">s</span>soci<span style="letter-spacing:-.05pt\;">a</span><span style="letter-spacing:-.15pt\;">t</span>es who h<span style="letter-spacing:-.15pt\;">a</span><span style="letter-spacing:-.2pt\;">v</span>e achi<span style="letter-spacing:-.2pt\;">ev</span>ed <span style="letter-spacing:-.2pt\;">ex</span><span style="letter-spacing:-.1pt\;">c</span>ellen<span style="letter-spacing:-.1pt\;">c</span>e in the home&nbsp\;<span style="position:relative\;top:.5pt\;">building indu<span style="letter-spacing:-.1pt\;">s</span>try each </span><span style="position:relative\;top:.5pt\;letter-spacing:-.3pt\;">y</span><span style="position:relative\;top:.5pt\;">ea<span style="letter-spacing:-.65pt\;">r</span>.<br />\n<br />\n<strong>Entries are due by March 31st\, 2023.</strong> Details at <a href="http://www.sabuilders.com/summit-awards">www.sabuilders.com/summit-awards</a></span></span>
LOCATION:Pedrotti?s Ranch 13715 FM1560 Helotes\, TX 78023
UID:e.9584.171
SEQUENCE:3
DTSTAMP:20260423T003234Z
URL:https://members.sabuilders.com/events/details/2023-summit-awards-171
END:VEVENT

END:VCALENDAR
