BEGIN:VCALENDAR
VERSION:2.0
PRODID:-//ChamberMaster//Event Calendar 2.0//EN
METHOD:PUBLISH
X-PUBLISHED-TTL:P3D
REFRESH-INTERVAL:P3D
CALSCALE:GREGORIAN
BEGIN:VEVENT
DTSTART:20250110T200000Z
DTEND:20250112T000000Z
X-MICROSOFT-CDO-ALLDAYEVENT:FALSE
SUMMARY:2025 BBQ Cook Off & Washer Tournament
DESCRIPTION:Join us for the fifth annual GSABA "Up in Smoke" BBQ Cook-off & Washer Tournament. This 2-day event will include BBQ tastings from BBQ teams\, drinks\, networking and fun.
X-ALT-DESC;FMTTYPE=text/html:<span style="font-size:16px\;">Join us for the fifth annual GSABA &quot\;Up in Smoke&quot\; BBQ Cook-off &amp\; Washer Tournament. This 2-day event will include BBQ tastings from BBQ teams\, drinks\, networking and fun.</span>
LOCATION:Helotes Fairgrounds 12210 Leslie Rd Helotes\, TX 78023
UID:e.9584.394
SEQUENCE:3
DTSTAMP:20260425T175929Z
URL:https://members.sabuilders.com/events/details/2025-bbq-cook-off-washer-tournament-394
END:VEVENT

END:VCALENDAR
