BEGIN:VCALENDAR
VERSION:2.0
PRODID:-//ChamberMaster//Event Calendar 2.0//EN
METHOD:PUBLISH
X-PUBLISHED-TTL:P3D
REFRESH-INTERVAL:P3D
CALSCALE:GREGORIAN
BEGIN:VEVENT
DTSTART:20250122T220000Z
DTEND:20250123T000000Z
X-MICROSOFT-CDO-ALLDAYEVENT:FALSE
SUMMARY:2025 YPLC Happy Hour Mixer
DESCRIPTION:Join us for a happy hour of Young Professional excellence at our 1st mixer of the year! Whether you're an industry veteran or just starting your journey\, this is the perfect opportunity to forge meaningful connections. \n\n\n\nThe Young Professional Leadership Committee is under the umbrella of the Greater San Antonio Builders Association (GSABA). The council consists of young professionals who are 45 years and younger that are dedicated to the development and growth of professional careers and GSABA involvement thus providing opportunities to one another. The YPLC includes anyone involved in any industry that partners with the Builder's Association. It is not limited to just homebuilders.\n\n\n\nPromotional Partnerships are available. \n\nEmail mvillarreal@sitterlehomes.com for details.
X-ALT-DESC;FMTTYPE=text/html:<strong><span style="font-size:16px\;">Join us for a happy hour of Young Professional excellence at our 1st mixer of the year! Whether you&rsquo\;re an industry veteran or just starting your journey\, this is the perfect opportunity to forge meaningful connections.&nbsp\;</span></strong><br />\n<br />\n<font color="#555555" face="Montserrat\, sans-serif">The Young Professional Leadership Committee is under the umbrella of the Greater San Antonio Builders Association (GSABA). The council consists of young professionals who are 45 years and younger that are dedicated to the development and growth of professional careers and GSABA involvement thus providing opportunities to one another. The YPLC includes anyone involved in any industry that partners with the Builder&rsquo\;s Association. It is not limited to just homebuilders.</font><br />\n<br />\n<span style="font-size:16px\;"><em>Promotional Partnerships are available. </em><br />\nEmail <a href="mailto:YPLC Mixer Partnerships">mvillarreal@sitterlehomes.com</a> for details.</span>
LOCATION:GSABA Ballroom 3625 Paesanos Parkway Suite 100 San Antonio\, TX 78231
UID:e.9584.528
SEQUENCE:3
DTSTAMP:20260423T191042Z
URL:https://members.sabuilders.com/events/details/2025-yplc-happy-hour-mixer-528
END:VEVENT

END:VCALENDAR
