BEGIN:VCALENDAR
VERSION:2.0
PRODID:-//ChamberMaster//Event Calendar 2.0//EN
METHOD:PUBLISH
X-PUBLISHED-TTL:P3D
REFRESH-INTERVAL:P3D
CALSCALE:GREGORIAN
BEGIN:VEVENT
DTSTART:20250207T143000Z
DTEND:20250207T170000Z
X-MICROSOFT-CDO-ALLDAYEVENT:FALSE
SUMMARY:2026 Parade of Homes Meet the Builders
DESCRIPTION:Vendors & Suppliers!\n\nYou're invited to attend this Reverse Trade Show to meet with and pitch your products and services to 2026 Parade of Homes Builders! (the Builders will be at tables)\n\n2026 Parade of Homes will be in Fair Oaks.\n\n\n\n** Security Services is the Presenting Partner and has exclusive rights.  Insurance Companies\, Banks and Title Companies are not able to attend this event**
X-ALT-DESC;FMTTYPE=text/html:<br />\n<span style="font-size:22px\;">Vendors &amp\; Suppliers!<br />\nYou&#39\;re invited to attend this Reverse Trade Show to meet with and pitch your products and services to 2026 Parade of Homes Builders! (the Builders will be at tables)<br />\n2026 Parade of Homes will be in Fair Oaks.</span><br />\n<br />\n** Security Services is the Presenting Partner and has exclusive rights.&nbsp\; Insurance Companies\, Banks and Title Companies are not able to attend this event**<br />\n&nbsp\;
LOCATION:GSABA Ballroom
UID:e.9584.518
SEQUENCE:3
DTSTAMP:20260421T150026Z
URL:https://members.sabuilders.com/events/details/2026-parade-of-homes-meet-the-builders-518
END:VEVENT

END:VCALENDAR
