BEGIN:VCALENDAR
VERSION:2.0
PRODID:-//ChamberMaster//Event Calendar 2.0//EN
METHOD:PUBLISH
X-PUBLISHED-TTL:P3D
REFRESH-INTERVAL:P3D
CALSCALE:GREGORIAN
BEGIN:VEVENT
DTSTART:20240509T130000Z
DTEND:20240509T143000Z
X-MICROSOFT-CDO-ALLDAYEVENT:FALSE
SUMMARY:City of Seguin Breakfast Meeting
DESCRIPTION:Join us for breakfast!\n\n\n\nWe will be meeting with City Manager Steve Parker\; Asst. City Manager Rick Cortez\; Pamela Centero\, Director of Planning & Codes\; Mellisa Reynolds\, Director of Engineering\; and Tim Howe\, Director of Waste/ Wastewater Utilities.  The purpose of the meeting is to discuss growth\, current and future development\, water/wastewater\, any issues you might have and learn about future developments in Seguin. There will be a Q&A at the end of the meeting.
X-ALT-DESC;FMTTYPE=text/html:<span style="font-size:20px\;">Join us for breakfast!<br />\n<br />\nWe will be meeting with City Manager Steve Parker\; Asst. City Manager Rick Cortez\; Pamela Centero\, Director of Planning &amp\; Codes\; Mellisa Reynolds\, Director of Engineering\; and Tim Howe\, Director of Waste/ Wastewater Utilities.&nbsp\; The purpose of the meeting is to discuss growth\, current and future development\, water/wastewater\, any issues you might have and learn about future developments in Seguin. There will be a Q&amp\;A at the end of the meeting.</span><br type="_moz" />\n&nbsp\;
LOCATION:Ballroom
UID:e.9584.379
SEQUENCE:3
DTSTAMP:20260421T221159Z
URL:https://members.sabuilders.com/events/details/city-of-seguin-breakfast-meeting-379
END:VEVENT

END:VCALENDAR
