BEGIN:VCALENDAR
VERSION:2.0
PRODID:-//ChamberMaster//Event Calendar 2.0//EN
METHOD:PUBLISH
X-PUBLISHED-TTL:P3D
REFRESH-INTERVAL:P3D
CALSCALE:GREGORIAN
BEGIN:VEVENT
DTSTART:20240509T163000Z
DTEND:20240509T183000Z
X-MICROSOFT-CDO-ALLDAYEVENT:FALSE
SUMMARY:Education: Building Code Smack-Down - Battling compliance with the 2021 Energy and 2023 Electric Codes
DESCRIPTION:Every 3 years the fightin' rules get tweaked and every 3 years we struggle with how to comply with these new or revised codes.  \n\n \n\nThis time around the 2021 Energy Code can leave you with your head spinning. You may feel like you just got hit by a 1 - 2 punch.  To comply with all these new things make you just want to throw in the towel.  But don't despair\, you'll be OK.  You can comply with a little help from your friends.  We will talk about the various ways to absorb the punches and comply with the Energy Code.\n\n \n\nNot to be outdone\, the 2023 National Electric Code has landed a few hard lefts and rights with some of the changes in that book.  Have you survived the onslaught so far?  Just when you thought you had figured out your opponent they switch things up.  What have they done and how can we comply?  Let's talk about it!  \n\n \n\nCode books can beat us up a little bit from time to time.  Join us for a lunch time discussion that will give you the training to go the distance with every home you build or remodel.  When you walk out you'll be ready for the next round.
X-ALT-DESC;FMTTYPE=text/html:<div style="caret-color:rgb(0\, 0\, 0)\;color:rgb(0\, 0\, 0)\;font-family:Helvetica\;font-size:12px\;font-style:normal\;font-variant-caps:normal\;font-weight:400\;letter-spacing:normal\;orphans:auto\;text-align:start\;text-indent:0px\;text-transform:none\;white-space:normal\;widows:auto\;word-spacing:0px\;-webkit-text-stroke-width:0px\;text-decoration:none\;"><span style="font-size:14px\;"><span style="font-family:arial\;"><span style="color:black\;">Every 3 years the fightin&#39\; rules get tweaked and every 3 years we struggle with how to comply with these new or revised codes.&nbsp\;&nbsp\;</span></span></span></div>\n\n<div style="caret-color:rgb(0\, 0\, 0)\;color:rgb(0\, 0\, 0)\;font-family:Helvetica\;font-size:12px\;font-style:normal\;font-variant-caps:normal\;font-weight:400\;letter-spacing:normal\;orphans:auto\;text-align:start\;text-indent:0px\;text-transform:none\;white-space:normal\;widows:auto\;word-spacing:0px\;-webkit-text-stroke-width:0px\;text-decoration:none\;"><span style="font-size:14px\;"><span style="font-family:arial\;">&nbsp\;</span></span></div>\n\n<div style="caret-color:rgb(0\, 0\, 0)\;color:rgb(0\, 0\, 0)\;font-family:Helvetica\;font-size:12px\;font-style:normal\;font-variant-caps:normal\;font-weight:400\;letter-spacing:normal\;orphans:auto\;text-align:start\;text-indent:0px\;text-transform:none\;white-space:normal\;widows:auto\;word-spacing:0px\;-webkit-text-stroke-width:0px\;text-decoration:none\;"><span style="font-size:14px\;"><span style="font-family:arial\;"><span style="color:black\;">This time around the 2021 Energy Code can leave you with your head spinning. You may feel like you just got hit by a 1 - 2 punch.&nbsp\; To comply with all these new things make you just want to throw in the towel.&nbsp\; But don&#39\;t despair\, you&#39\;ll be OK.&nbsp\; You can comply with a little help from your friends.&nbsp\; We will talk about the various ways to absorb the punches and comply with the Energy Code.</span></span></span></div>\n\n<div style="caret-color:rgb(0\, 0\, 0)\;color:rgb(0\, 0\, 0)\;font-family:Helvetica\;font-size:12px\;font-style:normal\;font-variant-caps:normal\;font-weight:400\;letter-spacing:normal\;orphans:auto\;text-align:start\;text-indent:0px\;text-transform:none\;white-space:normal\;widows:auto\;word-spacing:0px\;-webkit-text-stroke-width:0px\;text-decoration:none\;"><span style="font-size:14px\;"><span style="font-family:arial\;">&nbsp\;</span></span></div>\n\n<div style="caret-color:rgb(0\, 0\, 0)\;color:rgb(0\, 0\, 0)\;font-family:Helvetica\;font-size:12px\;font-style:normal\;font-variant-caps:normal\;font-weight:400\;letter-spacing:normal\;orphans:auto\;text-align:start\;text-indent:0px\;text-transform:none\;white-space:normal\;widows:auto\;word-spacing:0px\;-webkit-text-stroke-width:0px\;text-decoration:none\;"><span style="font-size:14px\;"><span style="font-family:arial\;"><span style="color:black\;">Not to be outdone\, the 2023 National Electric Code has landed a few hard lefts and rights with some of the changes in that book.&nbsp\; Have you survived the onslaught so far?&nbsp\; Just when you thought you had figured out your opponent they switch things up.&nbsp\; What have they done and how can we comply?&nbsp\; Let&#39\;s talk about it!&nbsp\;&nbsp\;</span></span></span></div>\n\n<div style="caret-color:rgb(0\, 0\, 0)\;color:rgb(0\, 0\, 0)\;font-family:Helvetica\;font-size:12px\;font-style:normal\;font-variant-caps:normal\;font-weight:400\;letter-spacing:normal\;orphans:auto\;text-align:start\;text-indent:0px\;text-transform:none\;white-space:normal\;widows:auto\;word-spacing:0px\;-webkit-text-stroke-width:0px\;text-decoration:none\;"><span style="font-size:14px\;"><span style="font-family:arial\;">&nbsp\;</span></span></div>\n\n<div style="caret-color:rgb(0\, 0\, 0)\;color:rgb(0\, 0\, 0)\;font-family:Helvetica\;font-size:12px\;font-style:normal\;font-variant-caps:normal\;font-weight:400\;letter-spacing:normal\;orphans:auto\;text-align:start\;text-indent:0px\;text-transform:none\;white-space:normal\;widows:auto\;word-spacing:0px\;-webkit-text-stroke-width:0px\;text-decoration:none\;"><span style="font-size:14px\;"><span style="font-family:arial\;"><span style="color:black\;">Code books can beat us up a little bit from time to time.&nbsp\; Join us for a lunch time discussion that will give you the training to go the distance with every home you build or remodel.&nbsp\; When you walk out you&#39\;ll be ready for the next round.</span></span></span></div>\n
LOCATION:GSABA Ballroom 3625 Paesanos Pkwy
UID:e.9584.377
SEQUENCE:3
DTSTAMP:20260421T221041Z
URL:https://members.sabuilders.com/events/details/education-building-code-smack-down-battling-compliance-with-the-2021-energy-and-2023-electric-codes-377
END:VEVENT

END:VCALENDAR
