BEGIN:VCALENDAR
VERSION:2.0
PRODID:-//ChamberMaster//Event Calendar 2.0//EN
METHOD:PUBLISH
X-PUBLISHED-TTL:P3D
REFRESH-INTERVAL:P3D
CALSCALE:GREGORIAN
BEGIN:VEVENT
DTSTART:20200909T180000Z
DTEND:20200909T190000Z
X-MICROSOFT-CDO-ALLDAYEVENT:FALSE
SUMMARY:Education: Residential Construction Contracts-Risk Management Solutions
DESCRIPTION:There are 50+ additions and enhancements to the Texas Association of Builders (TAB) contracts package available for sale to Builder and Remodeler Members only. \n\n \n\nContract and Addendum Package includes:\n\n	Code compliance matters and provisions regarding arbitration\n	Latent Defect Claims to include the recent surge in stucco lawsuits\n	NEW Job Rules Addendum to the Independent Contractor Form\n	NEW Homeowner Maintenance Form \n\n\nSee what's included in the TAB contract package for purchase.\n\n\n\nThe TAB contracts package is available to GSABA Builder and Remodeler members only for $399.99 plus tax. This package will expire on 8-31-2021. You do not have to purchase the TAB contracts to join the webinar. Attorney Don Shelton will share critical issues as it relates to builder and remodeler contracts and addendums as well as what is required since the new laws went into effect on Sept. 1\, 2019 (after the last legislative session). \n\n\n\nAbout the Speaker: Donald Shelton\, Esq. Bush Rudnicki Shelton\, PC\n\nFor nearly 20 years\, Mr. Shelton has represented his clients in trial and arbitration of complex commercial and residential construction litigation. Mr. Shelton is one of the primary authors of the TAB Contract set. Shelton?s clients primarily include commercial and residential contractors\, developers\, insurance carriers\, third-party warranty companies\, publicly-traded volume and custom home builders\, remodelers\, subcontractors\, engineers and architects in Texas. He is a speaker and writer for numerous seminars and publications on construction topics. He currently serves on several committees for both NAHB and TAB. In addition\, he serves as general counsel for several local builder?s associations. One of his most proud moments was being selected as Associate of the Year by TAB.
X-ALT-DESC;FMTTYPE=text/html:There are 50+ additions and enhancements to the Texas Association of Builders (TAB) contracts package available for sale to Builder and Remodeler Members only.&nbsp\;<br />\n&nbsp\;<br />\n<strong>Contract and Addendum Package includes:</strong>\n<ul>\n	<li style="font-size:11pt\;font-family:Calibri\, sans-serif\;">Code compliance matters and provisions regarding arbitration</li>\n	<li style="font-size:11pt\;font-family:Calibri\, sans-serif\;">Latent Defect Claims to include the recent surge in stucco lawsuits</li>\n	<li style="font-size:11pt\;font-family:Calibri\, sans-serif\;"><strong>NEW</strong> Job Rules Addendum to the Independent Contractor Form</li>\n	<li style="font-size:11pt\;font-family:Calibri\, sans-serif\;"><strong>NEW </strong>Homeowner Maintenance Form&nbsp\;</li>\n</ul>\n\n<p><a href="https://chambermaster.blob.core.windows.net/userfiles/UserFiles/chambers/9584/File/2019-2021TABContractsTableofContents.pdf">See what&#39\;s included in the TAB contract package for purchase.</a><br />\n<br />\nThe TAB contracts package is available to GSABA Builder and Remodeler members only for $399.99 plus tax. This package will expire on 8-31-2021. You do not have to purchase the TAB contracts to join the webinar. Attorney Don Shelton will share critical issues as it relates to builder and remodeler contracts and addendums as well as what is required since the new laws went into effect on Sept. 1\, 2019 (after the last legislative session).&nbsp\;<br />\n<br />\n<strong>About the Speaker: Donald Shelton\, Esq. Bush Rudnicki Shelton\, PC</strong><br />\nFor nearly 20 years\, Mr. Shelton has represented his clients in trial and arbitration of complex commercial and residential construction litigation. Mr. Shelton is one of the primary authors of the TAB Contract set. Shelton?s clients primarily include commercial and residential contractors\, developers\, insurance carriers\, third-party warranty companies\, publicly-traded volume and custom home builders\, remodelers\, subcontractors\, engineers and architects in Texas. He is a speaker and writer for numerous seminars and publications on construction topics. He currently serves on several committees for both NAHB and TAB. In addition\, he serves as general counsel for several local builder?s associations. One of his most proud moments was being selected as Associate of the Year by TAB.</p>\n
LOCATION:Virtual / ZOOM
UID:e.9584.84
SEQUENCE:3
DTSTAMP:20260425T134348Z
URL:https://members.sabuilders.com/events/details/education-residential-construction-contracts-risk-management-solutions-84
END:VEVENT

END:VCALENDAR
