BEGIN:VCALENDAR
VERSION:2.0
PRODID:-//ChamberMaster//Event Calendar 2.0//EN
METHOD:PUBLISH
X-PUBLISHED-TTL:P3D
REFRESH-INTERVAL:P3D
CALSCALE:GREGORIAN
BEGIN:VEVENT
DTSTART:20210611T050000Z
DTEND:20210611T170000Z
X-MICROSOFT-CDO-ALLDAYEVENT:FALSE
SUMMARY:Education: TAB Contracts-Escalation Clause Class
DESCRIPTION:Donald Shelton\, Esq.\n\nBush Rudnicki Shelton\, PC\nFor decades\, the TAB fixed price contracts have had a materials escalation clause. Until now\, builders have not had to rely on this provision - that has changed. Prices of lumber and many other materials have skyrocketed. Don Shelton with Bush Rudnicki Shelton\, PC\, one of the primary authors of the TAB contracts and a TAB Contracts Committee Member\, will explain how to use this provision effectively\, the calculations\, timing\, enforceability\, how to deal with resistant owners and lenders\, the commodities covered by the clause\, and the technical details in the application of the clause. Don will also answer participants' questions at the end of the presentation. \n\nPresented by: Donald Shelton with Bush Rudnicki Shelton\, P.C.\n\nPowered by: The Sunbelt Builders Show
X-ALT-DESC;FMTTYPE=text/html:<strong><span style="font-variant:small-caps\;"><span style="font-family:garamond\,serif\;"><span style="font-size:18.0pt\;">Donald Shelton\, Esq.</span></span></span></strong><br />\n<strong><span style="font-variant:small-caps\;"><span style="font-family:garamond\,serif\;"><span style="font-size:18.0pt\;">Bush Rudnicki Shelton\, PC</span></span></span></strong>\n<p>For decades\, the TAB fixed price contracts have had a materials escalation clause. Until now\, builders have not had to rely on this provision - that has changed. Prices of lumber and many other materials have skyrocketed. Don Shelton with Bush Rudnicki Shelton\, PC\, one of the primary authors of the TAB contracts and a TAB Contracts Committee Member\, will explain how to use this provision effectively\, the calculations\, timing\, enforceability\, how to deal with resistant owners and lenders\, the commodities covered by the clause\, and the technical details in the application of the clause. Don will also answer participants&#39\; questions at the end of the presentation.&nbsp\;</p>\n\n<p>Presented by: Donald Shelton with Bush Rudnicki Shelton\, P.C.</p>\n\n<p>Powered by: The Sunbelt Builders Show&trade\;</p>\n
LOCATION:ZOOM - advanced registration required
UID:e.9584.117
SEQUENCE:3
DTSTAMP:20260424T165312Z
URL:https://members.sabuilders.com/events/details/education-tab-contracts-escalation-clause-class-117
END:VEVENT

END:VCALENDAR
