BEGIN:VCALENDAR
VERSION:2.0
PRODID:-//ChamberMaster//Event Calendar 2.0//EN
METHOD:PUBLISH
X-PUBLISHED-TTL:P3D
REFRESH-INTERVAL:P3D
CALSCALE:GREGORIAN
BEGIN:VEVENT
DTSTART:20240312T153000Z
DTEND:20240312T183000Z
X-MICROSOFT-CDO-ALLDAYEVENT:FALSE
SUMMARY:Education: The Top 10 Inspection Turndowns in the City of San Antonio
DESCRIPTION:BUILDERS and REMODELERS:  There is a significant change to the requirements regarding garage door labeling. All permits filed starting on April 1\, 2024\, for single family homes must have garage doors that meet code\, are tested\, and labeled for the home to be passed on final inspection. \n\n\n\nGET THE FACTS on March 12th at this training class. \n\n\n\nAn Update on the 2024 International Building Code will be discussed along with the City's plan for local amendments\, adoption\, and implementation.
X-ALT-DESC;FMTTYPE=text/html:<span style="font-family:tahoma\;"><span style="font-size:16px\;"><strong>BUILDERS and REMODELERS:&nbsp\;</strong> There is a significant change to the requirements regarding garage door labeling. All permits filed starting on April 1\, 2024\, for single family homes must have garage doors that meet code\, are tested\, and labeled for the home to be passed on final inspection.&nbsp\;<br />\n<br />\nGET THE FACTS on March 12<sup>th</sup> at this training class.&nbsp\;<br />\n<br />\nAn Update on the 2024 International Building Code will be discussed along with the City&rsquo\;s plan for local amendments\, adoption\, and implementation.</span></span>
LOCATION:Greater San Antonio Builder Association 3625 Paesanos Parkway\, Suite 100 San Antonio\, TX 78231
UID:e.9584.373
SEQUENCE:3
DTSTAMP:20260422T023421Z
URL:https://members.sabuilders.com/events/details/education-the-top-10-inspection-turndowns-in-the-city-of-san-antonio-373
END:VEVENT

END:VCALENDAR
