BEGIN:VCALENDAR
VERSION:2.0
PRODID:-//ChamberMaster//Event Calendar 2.0//EN
METHOD:PUBLISH
X-PUBLISHED-TTL:P3D
REFRESH-INTERVAL:P3D
CALSCALE:GREGORIAN
BEGIN:VEVENT
DTSTART:20230322T160000Z
DTEND:20230322T180000Z
X-MICROSOFT-CDO-ALLDAYEVENT:FALSE
SUMMARY:Mayor Ron Nirenberg BBQ Luncheon & Fundraiser
DESCRIPTION:Please join us for a BBQ Style Fundraiser honoring Mayor Ron Nirenberg featuring pit master Colby Duke with Bubba dukes BBQ.
X-ALT-DESC;FMTTYPE=text/html:Please join us for a BBQ Style Fundraiser honoring Mayor Ron Nirenberg featuring pit master Colby Duke with Bubba dukes BBQ.
LOCATION:GSABA Ray Ellison Ballroom
UID:e.9584.187
SEQUENCE:3
DTSTAMP:20260423T120449Z
URL:https://members.sabuilders.com/events/details/mayor-ron-nirenberg-bbq-luncheon-fundraiser-187
END:VEVENT

END:VCALENDAR
