BEGIN:VCALENDAR
VERSION:2.0
PRODID:-//ChamberMaster//Event Calendar 2.0//EN
METHOD:PUBLISH
X-PUBLISHED-TTL:P3D
REFRESH-INTERVAL:P3D
CALSCALE:GREGORIAN
BEGIN:VEVENT
DTSTART:20240522T133000Z
DTEND:20240522T160000Z
X-MICROSOFT-CDO-ALLDAYEVENT:FALSE
SUMMARY:Parade of Homes Vendor/Supplier Introduction Meeting
DESCRIPTION:Vendors & Suppliers!\n\nYou're invited to attend this meeting to meet with and pitch your products and services to 2024 and 2025 Parade of Homes Builders! This is a reverse trade show with the builders seated at tables and you will be able to speak with them one on one.\n\n2024 Parade Dates: November 2nd   10th\, 2024\n\n2025 Parade Dates:  May 17th   26th\, 2025\n\n*Due to an exclusive agreement with Security Service Federal Credit Union\, banks\, insurance and title companies are ineligible to participate.\n\n***Only 2 per Company are allowed to attend
X-ALT-DESC;FMTTYPE=text/html:<span style="font-size:22px\;">Vendors &amp\; Suppliers!<br />\nYou&#39\;re invited to attend this meeting to meet with and pitch your products and services to 2024 and 2025 Parade of Homes Builders! This is a reverse trade show with the builders seated at tables and you will be able to speak with them one on one.<br />\n2024 Parade Dates: November 2<sup>nd</sup> &ndash\; 10<sup>th</sup>\, 2024<br />\n2025 Parade Dates:&nbsp\; May 17<sup>th</sup> &ndash\; 26<sup>th</sup>\, 2025</span><br />\n<em>*Due to an exclusive agreement with Security Service Federal Credit Union\, banks\, insurance and title companies are ineligible to participate.</em><br />\n***Only 2 per Company are allowed to attend<br />\n&nbsp\;
LOCATION:GSABA Ballroom 3625 Paesanos Pkwy
UID:e.9584.380
SEQUENCE:3
DTSTAMP:20260421T221244Z
URL:https://members.sabuilders.com/events/details/parade-of-homes-vendor-supplier-introduction-meeting-380
END:VEVENT

END:VCALENDAR
