BEGIN:VCALENDAR
VERSION:2.0
PRODID:-//ChamberMaster//Event Calendar 2.0//EN
METHOD:PUBLISH
X-PUBLISHED-TTL:P3D
REFRESH-INTERVAL:P3D
CALSCALE:GREGORIAN
BEGIN:VEVENT
DTSTART:20260602T144500Z
DTEND:20260602T190000Z
X-MICROSOFT-CDO-ALLDAYEVENT:FALSE
SUMMARY:Profit & Pipeline Workshop
DESCRIPTION:In this 4-hour workshop from The Professional Builder\, you'll get a behind-the-scenes look at the exact financial systems America's most profitable residential builders are using to lock in 20 25% margins\, recover all overheads and PM costs\, and create predictable cash flow.\n\nIf you don't have a system for locking in margin and forecasting cash flow before a job starts\, this workshop will show you how America's top builders do it and how to apply it in your construction business.\n\n \n\nWhat You'll Walk Away With:\n\nA proven quoting method that locks in 20-25% gross margins (with overhead + PM fees accounted for properly)\n\nThe fix to the markup vs margin mistake costing you thousands\n\nTools to forecast labor and stop crew blowouts before they happen\n\nWeekly tracking systems to stay in control of costs and performance\n\nHow to read your P&L like a builder\, not a bookkeeper\n\n$3\,000+ in plug-and-play templates and tools\n\n\nRegister Now Spots are limited
X-ALT-DESC;FMTTYPE=text/html:<div style="text-align: center\;">\n<div style="text-align: left\;"><span style="font-size:20px\;">In this 4-hour workshop from The Professional Builder\, you&rsquo\;ll get a behind-the-scenes look at the exact financial systems America&#39\;s most profitable residential builders are using to lock in 20&ndash\;25% margins\, recover all overheads and PM costs\, and create predictable cash flow.</span></div>\n\n<div style="text-align: left\;"><span style="font-size:20px\;">If you don&rsquo\;t have a system for locking in margin and forecasting cash flow before a job starts\, this workshop will show you how America&#39\;s top builders do it and how to apply it in your construction business.</span></div>\n\n<div style="text-align: left\;">&nbsp\;<br />\n<span style="font-size:20px\;"><strong>What You&rsquo\;ll Walk Away With:</strong></span></div>\n\n<div style="text-align: left\;"><span style="font-size:18px\;">A proven quoting method that locks in 20-25% gross margins (with overhead + PM fees accounted for properly)</span></div>\n\n<div style="text-align: left\;"><span style="font-size:18px\;">The fix to the markup vs margin mistake costing you thousands</span></div>\n\n<div style="text-align: left\;"><span style="font-size:18px\;">Tools to forecast labor and stop crew blowouts before they happen</span></div>\n\n<div style="text-align: left\;"><span style="font-size:18px\;">Weekly tracking systems to stay in control of costs and performance</span></div>\n\n<div style="text-align: left\;"><span style="font-size:18px\;">How to read your P&amp\;L like a builder\, not a bookkeeper</span></div>\n\n<div style="text-align: left\;"><span style="font-size:18px\;">$3\,000+ in plug-and-play templates and tools</span></div>\n<br />\n<span style="font-size:20px\;"><a href="https://www.tpbevents.com/event/gsaba/workshop">Register Now</a> Spots are limited</span></div>\n
LOCATION:GSABA's Ray Ellison Ballroom 3625 Peasanos Parkway\, San Antonio\, TX 78231
UID:e.9584.613
SEQUENCE:3
DTSTAMP:20260421T191228Z
URL:https://members.sabuilders.com/events/details/profit-pipeline-workshop-613
END:VEVENT

END:VCALENDAR
