BEGIN:VCALENDAR
VERSION:2.0
PRODID:-//ChamberMaster//Event Calendar 2.0//EN
METHOD:PUBLISH
X-PUBLISHED-TTL:P3D
REFRESH-INTERVAL:P3D
CALSCALE:GREGORIAN
BEGIN:VEVENT
DTSTART:20240515T163000Z
DTEND:20240515T183000Z
X-MICROSOFT-CDO-ALLDAYEVENT:FALSE
SUMMARY:PWB Lunch & Learn: Facing Critical Issues in Mental Health
DESCRIPTION:Please join our esteemed panel of healthcare professionals. We will be discussing tough topics dealing with mental health including depression\, anxiety\, addictions\, trauma\, and abuse.  \n\n\n\nDr. Janyna Mercado-Robare will moderate this panel as we explore ways to provide a much-needed support network for our family\, friends\, colleagues\, and employees.\n\n\n\nBenefiting Magdalena House\n\n\n\nThe Magdalena House is a neighborhood of transitional homes in San Antonio that serves mothers and children who have fled dangerous and abusive lives and survived domestic violence and human trafficking\, and young mothers who have aged out of foster care.  \n\n\n\nIf possible\, we ask that you bring an item on their wish list or donate at the luncheon.\n\nThese families have several needs including all types of cleaning supplies\, diapers\, baby wipes\, and more.\n\n\nAll members working at all levels in the home building industry are invited to attend. \n\n\n\nJoin us and bring a colleague involved in the residential homebuilding or remodeling industry-all trades\, vendors\, builders\, suppliers\, Realtors\, remodelers\, lenders\, sales\, and service providers are encouraged to attend!\n\n\n\nWhy Join the Professional Women in Building Council?\n\nContact: Kristi Sutterfield or Connie Phillips\n\nKSutterfield@sabuilders.com or cphillips@sabuilders.com\n\n(210) 696-3800\n\n\n\nThe NAHB Professional Women in Building Council (PWB) is the voice of women in the building industry\, dedicated to promoting industry professionalism and supporting members at the local\, state\, and national levels.\n\n\n\nCouncil Benefits\n\nIndustry data show the company earnings of PWB members are 22% higher than those of non-members. PWB members attribute much of their success to the support they receive from peer members\, in addition to receiving exclusive access to professional development resources and participating in forums that hone leadership skills. Plus\, the national recognition they attain through the largest network of residential construction professionals also gives them a competitive edge.\n\n\n\nOther benefits include:\n\nPublications   Building Women magazine is published annually and includes relevant and timely editorial that promotes\, enhances and supports home building and women within the industry. Also\, PWB council members get an additional 10% off the member price of every item at BuilderBooks\, the publishing arm of NAHB where you can find valuable publications specifically created to help you streamline your business operations\n\n\n\nAwards and Recognition   \n\nThe NAHB Professional Women in Building/National Housing Endowment scholarship fund encourages PWB members and women in the industry to further their education\, training and professional development in housing-related programs. Additionally. PWB celebrates local council and individual leadership through their annual awards programs.\n\n\n\nNetworking   \n\nDuring the annual International Builders' Show (IBS) the PWB Headquarters facilitates one of the best opportunities for PWB members to network and access a variety of resources that support and promote women in the industry. Throughout IBS\, thought leaders\, executives and industry experts come together in the PWB Headquarters to focus on women's leadership abilities and perspectives that help advance the industry.\n\n\n\nPromotional Events   \n\nPWB Week is an annual Federation-wide occasion that sets aside one week in September to celebrate the contributions of women in the residential construction industry. The PWB Week toolkit is available to members year-round at nahb.org/pwbweek and provides ideas for celebrating and promoting the influence of women in the industry.\n\n\n\nWomen in Residential Construction Conference (WIRC)   \n\nPWB is an association partner of WIRC\, an annual event put on by the editorial and publishing teams of Professional Builder\, Professional Remodeler and Custom Builder. PWB members receive discounted conference pricing. Learn more at pbprwomen.com.\n\nHow to Join\n\n\n\nTo join PWB\, complete this online application.
X-ALT-DESC;FMTTYPE=text/html:Please join our esteemed panel of healthcare professionals. We will be discussing tough topics dealing with mental health including depression\, anxiety\, addictions\, trauma\, and abuse. &nbsp\;<br />\n<br />\nDr. Janyna Mercado-Robare will moderate this panel as we explore ways to provide a much-needed support network for our family\, friends\, colleagues\, and employees.<br />\n<br />\n<strong>Benefiting Magdalena House</strong><br />\n<br />\nThe Magdalena House is a neighborhood of transitional homes in San Antonio that serves mothers and children who have fled dangerous and abusive lives and survived domestic violence and human trafficking\, and young mothers who have aged out of foster care. &nbsp\;<br />\n<br />\nIf possible\, we ask that you bring an item on their wish list or donate at the luncheon.<br />\nThese families have several needs including all types of cleaning supplies\, diapers\, baby wipes\, and more.\n<p><br />\n<span style="font-size:16px\;"><strong>All members working at all levels in the home building industry are invited to attend. </strong></span><br />\n<br />\nJoin us and bring a colleague involved in the residential homebuilding or remodeling industry-all trades\, vendors\, builders\, suppliers\, Realtors\, remodelers\, lenders\, sales\, and service providers are encouraged to attend!<br />\n<br />\n<strong><span style="font-size:16px\;">Why Join the Professional Women in Building Council?</span></strong><br />\nContact: Kristi Sutterfield or Connie Phillips<br />\n<a href="mailto:KSutterfield@sabuilders.com">KSutterfield@sabuilders.com</a> or <a href="mailto:cphillips@sabuilders.com?subject=PWB%20January%20Mixer">cphillips@sabuilders.com</a><br />\n(210) 696-3800<br />\n<br />\nThe NAHB Professional Women in Building Council (PWB) is the voice of women in the building industry\, dedicated to promoting industry professionalism and supporting members at the local\, state\, and national levels.<br />\n<br />\n<strong><span style="font-size:16px\;">Council Benefits</span></strong><br />\nIndustry data show the company earnings of PWB members are 22% higher than those of non-members. PWB members attribute much of their success to the support they receive from peer members\, in addition to receiving exclusive access to professional development resources and participating in forums that hone leadership skills. Plus\, the national recognition they attain through the largest network of residential construction professionals also gives them a competitive edge.<br />\n<br />\n<strong>Other benefits include:</strong><br />\nPublications&nbsp\;&mdash\;&nbsp\;Building Women&nbsp\;magazine is published annually and includes relevant and timely editorial that promotes\, enhances and supports home building and women within the industry. Also\, PWB council members get an additional 10% off the member price of every item at&nbsp\;BuilderBooks\, the publishing arm of NAHB where you can find valuable publications specifically created to help you streamline your business operations<br />\n<br />\n<strong><span style="font-size:16px\;">Awards and Recognition&nbsp\;&mdash\; </span></strong><br />\nThe&nbsp\;NAHB Professional Women in Building/National Housing Endowment&nbsp\;scholarship fund encourages PWB members and women in the industry to further their education\, training and professional development in housing-related programs. Additionally. PWB celebrates local council and individual leadership through their annual&nbsp\;awards programs.<br />\n<br />\n<strong><span style="font-size:16px\;">Networking&nbsp\;&mdash\; </span></strong><br />\nDuring the annual&nbsp\;International Builders&rsquo\; Show (IBS)&nbsp\;the PWB Headquarters facilitates one of the best opportunities for PWB members to network and access a variety of resources that support and promote women in the industry. Throughout IBS\, thought leaders\, executives and industry experts come together in the PWB Headquarters to focus on women&rsquo\;s leadership abilities and perspectives that help advance the industry.<br />\n<br />\n<strong><span style="font-size:16px\;">Promotional Events&nbsp\;&mdash\; </span></strong><br />\nPWB Week is an annual Federation-wide occasion that sets aside one week in September to celebrate the contributions of women in the residential construction industry. The PWB Week toolkit is available to members year-round at&nbsp\;nahb.org/pwbweek&nbsp\;and provides ideas for celebrating and promoting the influence of women in the industry.<br />\n<br />\n<strong><span style="font-size:16px\;">Women in Residential Construction Conference (WIRC)&nbsp\;&mdash\; </span></strong><br />\nPWB is an association partner of WIRC\, an annual event put on by the editorial and publishing teams of Professional Builder\, Professional Remodeler and Custom Builder. PWB members receive discounted conference pricing. Learn more at&nbsp\;pbprwomen.com.<br />\nHow to Join<br />\n<br />\n<strong>To join PWB\, <a href="https://www.sabuilders.com/professional-women-in-building/">complete this online application</a>.</strong></p>\n
LOCATION:GSABA Ballroom 3625 Paesanos Pkwy
UID:e.9584.363
SEQUENCE:3
DTSTAMP:20260422T000145Z
URL:https://members.sabuilders.com/events/details/pwb-lunch-learn-facing-critical-issues-in-mental-health-363
END:VEVENT

END:VCALENDAR
