BEGIN:VCALENDAR
VERSION:2.0
PRODID:-//ChamberMaster//Event Calendar 2.0//EN
METHOD:PUBLISH
X-PUBLISHED-TTL:P3D
REFRESH-INTERVAL:P3D
CALSCALE:GREGORIAN
BEGIN:VEVENT
DTSTART;VALUE=DATE:20240927
DTEND;VALUE=DATE:20240930
TRANSP:TRANSPARENT
X-MICROSOFT-CDO-ALLDAYEVENT:TRUE
SUMMARY:San Antonio Fall Home & Garden Show
DESCRIPTION:Meet your new customers at the San Antonio Home + Garden Show.\n\nQualified homeowners attend the show annually seeking helpful\n\nadvice\, solutions and new products for their next renovation\, d cor or\n\nlandscape project.\n\n\n\nThe San Antonio Home + Garden Show features high-interest exhibits\,\n\nhigh-profile experts and the latest trends to bring in customers who are\n\nready to move ahead with their home improvement projects.
X-ALT-DESC;FMTTYPE=text/html:Meet your new customers at the San Antonio Home + Garden Show.<br />\nQualified homeowners attend the show annually seeking helpful<br />\nadvice\, solutions and new products for their next renovation\, d&eacute\;cor or<br />\nlandscape project.<br />\n<br />\nThe San Antonio Home + Garden Show features high-interest exhibits\,<br />\nhigh-profile experts and the latest trends to bring in customers who are<br />\nready to move ahead with their home improvement projects.
LOCATION:Alamodome
UID:e.9584.214
SEQUENCE:3
DTSTAMP:20260421T170956Z
URL:https://members.sabuilders.com/events/details/san-antonio-fall-home-garden-show-214
END:VEVENT

END:VCALENDAR
