BEGIN:VCALENDAR
VERSION:2.0
PRODID:-//ChamberMaster//Event Calendar 2.0//EN
METHOD:PUBLISH
X-PUBLISHED-TTL:P3D
REFRESH-INTERVAL:P3D
CALSCALE:GREGORIAN
BEGIN:VEVENT
DTSTART:20240413T150000Z
DTEND:20240413T150000Z
X-MICROSOFT-CDO-ALLDAYEVENT:FALSE
SUMMARY:Spring Tour of Homes
DESCRIPTION:The Biggest Open Housing in Central Texas!\n\nEnter your homes and communities by March 14th to get on the tour.\n\nGSABA will launch an extensive\, multi-media campaign along with SA Express News and KSAT to drive traffic to your homes and communities. Extend your marketing campaign by getting on the tour!
X-ALT-DESC;FMTTYPE=text/html:<strong><span style="font-size:24px\;">The Biggest Open Housing in Central Texas!</span></strong><br />\nEnter your homes and communities by March 14th to get on the tour.<br />\nGSABA will launch an extensive\, multi-media campaign along with SA Express News and KSAT to drive traffic to your homes and communities. Extend your marketing campaign by getting on the tour!
LOCATION:Greater San Antonio Metropolitan Area
UID:e.9584.228
SEQUENCE:3
DTSTAMP:20260422T000430Z
URL:https://members.sabuilders.com/events/details/spring-tour-of-homes-04-13-2024-228
END:VEVENT

END:VCALENDAR
